BEGIN:VCALENDAR
VERSION:2.0
METHOD:PUBLISH
X-WR-CALNAME;VALUE=TEXT:
PRODID:-//Drupal iCal API//EN
BEGIN:VEVENT
UID:wfbb-event-948
DTSTAMP:20241118T145930Z
DTSTART:20200602T070000Z
DTEND:20200605T150000Z
SUMMARY:Deutsch-Griechisches Wirtschaftsforum
DESCRIPTION:Das Matchmaking-Event für deutsche und griechische Unternehmen Anfang Juni ist ein digitales Follow-Up des Deutsch-Griechischen Wirtschaftsforums, welches am 9. März in Berlin stattfand.
LOCATION:
URL:https://hellenic-german-virtual-b2b-forum.b2match.io/
END:VEVENT
END:VCALENDAR
