BEGIN:VCALENDAR
VERSION:2.0
METHOD:PUBLISH
X-WR-CALNAME;VALUE=TEXT:
PRODID:-//Drupal iCal API//EN
BEGIN:VEVENT
UID:wfbb-event-4206
DTSTAMP:20250320T160337Z
DTSTART:20251104T090000Z
DTEND:20251106T160000Z
SUMMARY:Warsaw Industry Week 2025 | Gemeinschaftsstand der Hauptstadtregion
DESCRIPTION:Teilnahme am Gemeinschaftsstand der Hauptstadtregion auf der Warsaw Industry Week 2025 – Ihre Chance zur internationalen Vernetzung und Präsentation Ihrer Innovationen!
LOCATION:Ptak Warsaw Expo Al Katowicka 62 05830 Nadarzyn
URL:https://www.wfbb.de/termine-und-events/warsaw-industry-week-2025-gemeinschaftsstand-der-hauptstadtregion
END:VEVENT
END:VCALENDAR
