BEGIN:VCALENDAR
VERSION:2.0
METHOD:PUBLISH
X-WR-CALNAME;VALUE=TEXT:
PRODID:-//Drupal iCal API//EN
BEGIN:VEVENT
UID:wfbb-event-3730
DTSTAMP:20240913T114409Z
DTSTART:20240625T080000Z
DTEND:20240628T160000Z
SUMMARY:Unternehmensreise NL | Erdölindustrie, Wasserstoff, Grüne Chemie, Energietechnik
DESCRIPTION:Die Unternehmensreise „Erdölindustrie, Wasserstoff, Grüne Chemie und Energietechnik“ ermöglicht brandenburgischen Unternehmen das Tor zum niederländischen Markt. Ziel der Reise ist es, innovative Lösungen und Technologien in den Bereichen Petrochemie, Wasserstoff, Chemie und Energietechnik zu erkunden und gleichzeitig den Austausch grenzüberschreitender Kooperationen zu fördern.
LOCATION:
URL:https://www.dnhk.org/veranstaltungen/details/unternehmerreise-niederlande-erdoelindustrie-wasserstoff-gruene-chemie-und-energietechnik
END:VEVENT
END:VCALENDAR
