BEGIN:VCALENDAR
VERSION:2.0
METHOD:PUBLISH
X-WR-CALNAME;VALUE=TEXT:
PRODID:-//Drupal iCal API//EN
BEGIN:VEVENT
UID:wfbb-event-3515
DTSTAMP:20240913T114409Z
DTSTART:20231105T230000Z
DTEND:20231109T230000Z
SUMMARY:Berlin goes China: Delegationstrip vom 6. bis 10. November 2023
DESCRIPTION:Beijing und Shanghai zählen zu den wichtigsten Startup- und Innovationszentren in Asien. Deshalb organisiert Berlin Partner für Wirtschaft und Technologie GmbH vom 6. bis 10. November 2023 eine Delegationsreise für Berliner Unternehmen nach China. Der Fokus der Reise wird auf den Themen Mobilität, Energie, Cleantech und Künstliche Intelligenz liegen.

 
LOCATION:
URL:
END:VEVENT
END:VCALENDAR
