BEGIN:VCALENDAR
VERSION:2.0
METHOD:PUBLISH
X-WR-CALNAME;VALUE=TEXT:
PRODID:-//Drupal iCal API//EN
BEGIN:VEVENT
UID:wfbb-event-3441
DTSTAMP:20240913T114409Z
DTSTART:20230927T130000Z
DTEND:20230927T143000Z
SUMMARY:KfW-Webseminare Bundesförderung für Energie- und Ressourceneffizienz Wirtschaft
DESCRIPTION:Die KfW-Bankengruppe bietet in einer kostenlosen Webseminarreihe einen Überblick zu den verschiedenen Modulen des EEW-Förderprogramms.
LOCATION:online
URL:
END:VEVENT
END:VCALENDAR
