BEGIN:VCALENDAR
VERSION:2.0
METHOD:PUBLISH
X-WR-CALNAME;VALUE=TEXT:
PRODID:-//Drupal iCal API//EN
BEGIN:VEVENT
UID:wfbb-event-3432
DTSTAMP:20240913T114409Z
DTSTART:20231120T090000Z
DTEND:20231124T150000Z
SUMMARY:Europäische Wasserstoffwoche 2023
DESCRIPTION:Besucher erwarten mehrere Konferenzstreams, über 25 Sitzungen und 200 erwartete Redner rund um das Thema Wasserstoff.
LOCATION:Brussels Expo Place de Belgique 1 1020 Bruxelles
URL:
END:VEVENT
END:VCALENDAR
