BEGIN:VCALENDAR
VERSION:2.0
METHOD:PUBLISH
X-WR-CALNAME;VALUE=TEXT:
PRODID:-//Drupal iCal API//EN
BEGIN:VEVENT
UID:wfbb-event-3138
DTSTAMP:20260115T085354Z
DTSTART:20230125T153000Z
DTEND:20230125T173000Z
SUMMARY:BVL Jahresauftaktveranstaltung 2023 mit Wahl des Sprecherteams
DESCRIPTION:Zur traditionellen Jahresauftaktveranstaltung der Regionalgruppe BVL Berlin/Brandenburg lädt die Bundesvereinigung Logistik (BVL) herzlich in die Wirtschaftsförderung des Landes Brandenburg nach Potsdam ein.
LOCATION:Wirtschaftsförderung Land Brandenburg Babelsberger Straße 21 14473 Potsdam
URL:https://www.bvl.de/veranstaltungen/regionalgruppen/regionalgruppenanmeldung?eventno=7179
END:VEVENT
END:VCALENDAR
