BEGIN:VCALENDAR
VERSION:2.0
METHOD:PUBLISH
X-WR-CALNAME;VALUE=TEXT:
PRODID:-//Drupal iCal API//EN
BEGIN:VEVENT
UID:wfbb-event-3053
DTSTAMP:20241118T145942Z
DTSTART:20221108T090000Z
DTEND:20221108T130000Z
SUMMARY:Deutsch-Polnische Zukunftskonferenz
DESCRIPTION:Die Konferenz „Deutsch-Polnische Zukunftsmärkte“ bringt Unternehmen aus innovativen Wirtschaftsfeldern und der Industrie zusammen. Sie wirft einen Blick auf künftige Geschäftspotenziale, wobei Felder wie Digitalisierung, Energiewende und Neue Mobilität ebenso im Mittelpunkt stehen wie Neues Arbeiten und Talentförderung.
LOCATION:IHK Potsdam | Havel-Saal (1.OG) Breite Str. 2A-C 14467 Potsdam
URL:https://veranstaltung.ihk-potsdam.de/deutschpolnischezukunftskonferenz
END:VEVENT
END:VCALENDAR
