BEGIN:VCALENDAR
VERSION:2.0
METHOD:PUBLISH
X-WR-CALNAME;VALUE=TEXT:
PRODID:-//Drupal iCal API//EN
BEGIN:VEVENT
UID:wfbb-event-3044
DTSTAMP:20240913T114340Z
DTSTART:20221102T073000Z
DTEND:20221102T180000Z
SUMMARY:Green Hydrogen Innovation Congress 2022
DESCRIPTION:Am 2.11.2022 findet im Congress Center Leipzig erstmals der internationale Fachkongress »Green Hydrogen Innovation Congress 2022« statt.
LOCATION:Congress Center Leipzig und hybrid Seehausener Allee 1 04356 Leipzig
URL:https://www.smwa.sachsen.de/22-GHIC-6755.html
END:VEVENT
END:VCALENDAR
