BEGIN:VCALENDAR
VERSION:2.0
METHOD:PUBLISH
X-WR-CALNAME;VALUE=TEXT:
PRODID:-//Drupal iCal API//EN
BEGIN:VEVENT
UID:wfbb-event-2988
DTSTAMP:20241118T145942Z
DTSTART:20220927T070000Z
DTEND:20220928T130000Z
SUMMARY:Fraunhofer-Symposium: Digitalisierung der Energiewende
DESCRIPTION:In der Reihe Energy2Business organisiert Fraunhofer CINES am 27. und 28.9.2022 ein zweitägiges Symposium zur Digitalisierung der Energiewende. Vor Ort in Berlin im Fraunhofer ENIQ soll diskutiert werden wie Digitalisierung die Energiewende entscheidend voranbringen kann.
LOCATION:Fraunhofer ENIQ EUREF-Campus 23-24 10829 Berlin
URL:https://www.eniq.fraunhofer.de/de/Veranstaltungen/digitalisierung-der-energiewende.html
END:VEVENT
END:VCALENDAR
