BEGIN:VCALENDAR
VERSION:2.0
METHOD:PUBLISH
X-WR-CALNAME;VALUE=TEXT:
PRODID:-//Drupal iCal API//EN
BEGIN:VEVENT
UID:wfbb-event-2976
DTSTAMP:20241118T145920Z
DTSTART:20221017T110000Z
DTEND:20221017T140000Z
SUMMARY:Wasserstoffpotenziale für die Mobilität in Berlin-Brandenburg
DESCRIPTION:Die Energiekrise spitzt sich zu, die regionale Gewinnung und Nutzung von Wasserstoff gewinnt zunehmend an Bedeutung. Der Fahrplan für den Aufbau einer regionalen Wasserstoffwirtschaft ist auf den Weg gebracht und die Initiativen nehmen zu, um die Brandenburger Potenziale hinsichtlich der Wasserstoff­nutzung zügig zu heben.
LOCATION:online
URL:
END:VEVENT
END:VCALENDAR
