BEGIN:VCALENDAR
VERSION:2.0
METHOD:PUBLISH
X-WR-CALNAME;VALUE=TEXT:
PRODID:-//Drupal iCal API//EN
BEGIN:VEVENT
UID:wfbb-event-2942
DTSTAMP:20241118T145942Z
DTSTART:20221106T230000Z
DTEND:20221108T230000Z
SUMMARY:Launchpad Silicon Valley – ClimateTech
DESCRIPTION:ClimateTech Startups aufgepasst: Willst du mit deiner Lösung das Silicon Valley erobern? Mit dem kostenlosen, 3-tägigen Deep Dive ins #SiliconValley vom 7. bis 9. November entdeckst du das weltweit führende Innovationszentrum und lernst von Pionieren und Mentoren, wie deine Lösung skalieren kann - in Deutschland und den USA.
LOCATION:
URL:https://www.gaccwest.com/startups/launchpad-climate
END:VEVENT
END:VCALENDAR
