BEGIN:VCALENDAR
VERSION:2.0
METHOD:PUBLISH
X-WR-CALNAME;VALUE=TEXT:
PRODID:-//Drupal iCal API//EN
BEGIN:VEVENT
UID:wfbb-event-2929
DTSTAMP:20241118T145926Z
DTSTART:20220906T080000Z
DTEND:20220906T150000Z
SUMMARY:Deutsch-Polnische Energiekonferenz
DESCRIPTION:Die IHK Ostbrandenburg lädt zur 3. Deutsch-Polnische Energiekonferenz, um über die aktuellen Vorgaben der EU zu informieren und Anregungen zu konkreten und innovativen Klimaschutzmaßnahmen zu bekommen und gemeinsam über weitere Umsetzungsmöglichkeiten in der Oderregion zu diskutieren.
LOCATION:Uckermärkische Bühnen Schwedt Berliner Straße 46/48 16303 Schwedt/Oder
URL:https://events.ihk-ostbrandenburg.de/dtpolnenergiekonferenz
END:VEVENT
END:VCALENDAR
