BEGIN:VCALENDAR
VERSION:2.0
METHOD:PUBLISH
X-WR-CALNAME;VALUE=TEXT:
PRODID:-//Drupal iCal API//EN
BEGIN:VEVENT
UID:wfbb-event-2799
DTSTAMP:20240913T114340Z
DTSTART:20220624T103000Z
DTEND:20220624T140000Z
SUMMARY:Umwelttechnik trifft Digitalisierung -  &quot;Digital Greentech&quot;
DESCRIPTION:Info-Veranstaltung zum BMBF-Call "Digital GreenTech"
LOCATION:Berlin Partner für Wirtschaft und Technologie GmbH, Ludwig-Erhard-Haus, 3. Etage Fasanenstr. 85 10623 Berlin
URL:https://www.optik-bb.de/veranstaltungen/termin/default-4f3ff3d242/
END:VEVENT
END:VCALENDAR
