BEGIN:VCALENDAR
VERSION:2.0
METHOD:PUBLISH
X-WR-CALNAME;VALUE=TEXT:
PRODID:-//Drupal iCal API//EN
BEGIN:VEVENT
UID:wfbb-event-2432
DTSTAMP:20240913T114147Z
DTSTART:20211105T090000Z
DTEND:20211105T120000Z
SUMMARY:Konferenz Deutsch-Polnische Zukunftsmärkte
DESCRIPTION:Die Deutsch-Polnische Industrie- und Handelskammer (AHK) lädt ein zur virtuellen Konferenz Deutsch-Polnische Zukunftsmärkte 2021. Experten aus führenden polnischen und deutschen Unternehmen diskutieren Zukunftschancen im bilateralen Geschäft.
LOCATION:online
URL:https://eventory.cc/event/polskoniemieckie-rynkiprzyszlosci-online
END:VEVENT
END:VCALENDAR
