BEGIN:VCALENDAR
VERSION:2.0
METHOD:PUBLISH
X-WR-CALNAME;VALUE=TEXT:
PRODID:-//Drupal iCal API//EN
BEGIN:VEVENT
UID:wfbb-event-2350
DTSTAMP:20240913T114147Z
DTSTART:20211102T110000Z
DTEND:20211102T160000Z
SUMMARY:1. Mitteldeutscher Wasserstoffkongress
DESCRIPTION:Mit dem 1. Mitteldeutschen Wasserstoffkongress präsentieren die Europäische Metropolregion Mitteldeutschland und HYPOS die Wasserstoffregion Mitteldeutschland. Im Mittelpunkt der Veranstaltung stehen die Informationen zu den
LOCATION:cCe Kulturhaus Leuna Spergauerstraße 41A 06237 Leuna
URL:
END:VEVENT
END:VCALENDAR
