BEGIN:VCALENDAR
VERSION:2.0
METHOD:PUBLISH
X-WR-CALNAME;VALUE=TEXT:
PRODID:-//Drupal iCal API//EN
BEGIN:VEVENT
UID:wfbb-event-2220
DTSTAMP:20241118T145936Z
DTSTART:20210810T080000Z
DTEND:20210810T090000Z
SUMMARY:6. Impuls Smarte Quartiere - Energieautarke Kommune Feldheim
DESCRIPTION:Der 6. Impuls Smarte Quartiere am 10. August 2021 widmet sich dem Thema Energieautarke Quartiere. Feldheim, Ortsteil von Treuenbrietzen in Brandenburg, zeigt uns, wie sich Kommunen und Quartiere selbst mit Energie versorgen können.
LOCATION:online
URL:
END:VEVENT
END:VCALENDAR
