BEGIN:VCALENDAR
VERSION:2.0
METHOD:PUBLISH
X-WR-CALNAME;VALUE=TEXT:
PRODID:-//Drupal iCal API//EN
BEGIN:VEVENT
UID:wfbb-event-2130
DTSTAMP:20240913T114147Z
DTSTART:20210812T110000Z
DTEND:20210812T120000Z
SUMMARY:HORIZONT EUROPA Kompakt | Wie überzeugt man einen Gutachter?
DESCRIPTION:In unserer Seminarreihe “HORIZONT EUROPA Kompakt” präsentieren wir Ihnen donnerstags ab 13:00 Uhr kurz jeweils ein Thema, das Sie einer erfolgreichen Projektteilnahme näherbringt.
LOCATION:online
URL:https://een-bb.de/termine/anmeldung/online-horizont-europa-kompakt-wie-ueberzeugt-man-einen-gutachter/a701e05da2d6ac36b0e66f6b2a22fbf8.html
END:VEVENT
END:VCALENDAR
