BEGIN:VCALENDAR
VERSION:2.0
METHOD:PUBLISH
X-WR-CALNAME;VALUE=TEXT:
PRODID:-//Drupal iCal API//EN
BEGIN:VEVENT
UID:wfbb-event-1924
DTSTAMP:20241118T145935Z
DTSTART:20210420T220000Z
DTEND:20210422T220000Z
SUMMARY:Berliner Energietage 2021
DESCRIPTION:Unter dem Motto „kontrovers – konstruktiv – klimafreundlich“ bündeln die ENERGIETAGE 2021 in dem Superwahljahr alle relevanten Akteure in den Themenfeldern Energiewende und Klimaschutz unter einem Dach.
LOCATION:online
URL:https://www.energietage.de/home.html
END:VEVENT
END:VCALENDAR
