BEGIN:VCALENDAR
VERSION:2.0
METHOD:PUBLISH
X-WR-CALNAME;VALUE=TEXT:
PRODID:-//Drupal iCal API//EN
BEGIN:VEVENT
UID:wfbb-event-4455
DTSTAMP:20260421T174709Z
DTSTART:20260702T080000Z
DTEND:20260702T160000Z
SUMMARY:Eröffnung des Reallabors Wasserstoffnetze bei der BAM
DESCRIPTION:Die BAM eröffnet das Reallabor Wasserstoffnetze mit der modularen Testplattform ModuH2Pipe@BAM und schafft damit eine einzigartige Infrastruktur zur Untersuchung des sicheren Betriebs von Wasserstoff-Pipelines unter realitätsnahen Bedingungen.
LOCATION:Testgelände Technische Sicherheit Baruth/Mark 15837 OT Horstwalde
URL:https://forms.office.com/pages/responsepage.aspx?id=9AlUT2wCk06evAtruMXKLQfm_zxsDUlNox0P95WDWtNUM1FOTEQ4S0RQVVdHR1NVRDg0Q0JGVk9HOSQlQCN0PWcu&amp;origin=lprLink&amp;route=shorturl
END:VEVENT
END:VCALENDAR
